BEGIN:VCALENDAR
VERSION:2.0
PRODID:-//Borderland Cheer &amp; Dance - ECPv6.15.17.1//NONSGML v1.0//EN
CALSCALE:GREGORIAN
METHOD:PUBLISH
X-ORIGINAL-URL:https://www.borderlandcheer.org
X-WR-CALDESC:Events for Borderland Cheer &amp; Dance
REFRESH-INTERVAL;VALUE=DURATION:PT1H
X-Robots-Tag:noindex
X-PUBLISHED-TTL:PT1H
BEGIN:VTIMEZONE
TZID:UTC
BEGIN:STANDARD
TZOFFSETFROM:+0000
TZOFFSETTO:+0000
TZNAME:UTC
DTSTART:20250101T000000
END:STANDARD
END:VTIMEZONE
BEGIN:VEVENT
DTSTART;TZID=UTC:20260601T173000
DTEND;TZID=UTC:20260715T190000
DTSTAMP:20260421T233417
CREATED:20260410T215039Z
LAST-MODIFIED:20260410T224940Z
UID:10000056-1780335000-1784142000@www.borderlandcheer.org
SUMMARY:Summer Rec Cheer Session
DESCRIPTION:Summer Rec Cheer is open to athletes ages 5 and up and welcomes all skill levels. This program is designed to develop and refine the core fundamentals of cheerleading\, including motions\, jumps\, tumbling\, stunting\, and basic choreography. \nWhether your athlete is brand new to cheer or looking to continue building their skills\, this session provides a fun\, structured\, and supportive environment focused on confidence\, teamwork\, and skill progression. \nClass will meet Mondays and Wednesdays from 5:30-7pm \nGym is closed the week of June 28-July4\n(No class on June 29 and July 1) \n  \n 
URL:https://www.borderlandcheer.org/event/summer-rec-cheer-session/
CATEGORIES:Summer Camps
ATTACH;FMTTYPE=image/png:https://www.borderlandcheer.org/wp-content/uploads/2026/04/Copy-of-Copy-of-Recreational-Cheer-Session-Connect-3-1920-x-1080-px.png
END:VEVENT
BEGIN:VEVENT
DTSTART;TZID=UTC:20260603T090000
DTEND;TZID=UTC:20260603T150000
DTSTAMP:20260421T233417
CREATED:20260409T233900Z
LAST-MODIFIED:20260410T224940Z
UID:10000047-1780477200-1780498800@www.borderlandcheer.org
SUMMARY:Disney Camp
DESCRIPTION:Step into a world of magic\, imagination\, and adventure! From themed games and crafts to music and interactive activities\, this day brings your favorite stories to life in the most fun way. \n  \n 
URL:https://www.borderlandcheer.org/event/disney-camp/
CATEGORIES:Summer Camps
ATTACH;FMTTYPE=image/png:https://www.borderlandcheer.org/wp-content/uploads/2026/04/Disney-Camp.png
END:VEVENT
BEGIN:VEVENT
DTSTART;TZID=UTC:20260610T090000
DTEND;TZID=UTC:20260610T150000
DTSTAMP:20260421T233417
CREATED:20260410T000747Z
LAST-MODIFIED:20260410T224940Z
UID:10000048-1781082000-1781103600@www.borderlandcheer.org
SUMMARY:Sports Theme Camp
DESCRIPTION:Get ready to move\, play\, and compete! This high-energy day is packed with exciting games\, team challenges\, and activities that keep kids active\, engaged\, and having a blast. \n  \n 
URL:https://www.borderlandcheer.org/event/sports-theme-camp/
CATEGORIES:Summer Camps
ATTACH;FMTTYPE=image/png:https://www.borderlandcheer.org/wp-content/uploads/2026/04/Sports-Theme-Camp.png
END:VEVENT
BEGIN:VEVENT
DTSTART;TZID=UTC:20260617T090000
DTEND;TZID=UTC:20260617T150000
DTSTAMP:20260421T233417
CREATED:20260410T002523Z
LAST-MODIFIED:20260410T224940Z
UID:10000049-1781686800-1781708400@www.borderlandcheer.org
SUMMARY:KPOP CAMP
DESCRIPTION:Turn up the music and feel the energy! Kids will learn fun choreography\, play interactive games\, and dive into the vibrant world of K-pop in a day full of movement and excitement. \n  \n 
URL:https://www.borderlandcheer.org/event/kpop-camp/
CATEGORIES:Summer Camps
ATTACH;FMTTYPE=image/png:https://www.borderlandcheer.org/wp-content/uploads/2026/04/KPOP-Camp.png
END:VEVENT
BEGIN:VEVENT
DTSTART;TZID=UTC:20260624T090000
DTEND;TZID=UTC:20260624T150000
DTSTAMP:20260421T233417
CREATED:20260410T003804Z
LAST-MODIFIED:20260410T224940Z
UID:10000050-1782291600-1782313200@www.borderlandcheer.org
SUMMARY:Tik Tok & Tumble Camp
DESCRIPTION:Lights\, camera\, action! This day combines fun movement\, basic tumbling\, and creative video-style activities where kids can express themselves\, learn new skills\, learn some Tik Tok dance and have a blast. \n  \n 
URL:https://www.borderlandcheer.org/event/tik-tok-tumble-camp/
CATEGORIES:Summer Camps
ATTACH;FMTTYPE=image/png:https://www.borderlandcheer.org/wp-content/uploads/2026/04/TIK-TOK-TUMBLE-Camp.png
END:VEVENT
END:VCALENDAR